BEGIN:VCALENDAR
VERSION:2.0
CALSCALE:GREGORIAN
PRODID:-//Diputació de Barcelona//DibaCMS//EN
BEGIN:VEVENT
UID:1344
DTSTAMP:20260419T144511
DTSTART:20180517T120000
DTEND:20180517T130000
SUMMARY:Reunió empresa Neosalus
LOCATION:
METHOD:PUBLISH
X-WR-CALNAME:capolat@diba.cat
X-WR-TIMEZONE:Europe/Madrid
DESCRIPTION:Reunió amb l'empresa innovadora en gestió d'espais cardioprotgeits Neosalus.

URI:https://www.capolat.cat/ajuntament/8-consistori/agenda-politica/reunio-empresa-neosalus.html
CLASS:PUBLIC
END:VEVENT
END:VCALENDAR
